BEGIN:VCALENDAR
VERSION:2.0
PRODID:-//Squarespace Inc/Squarespace 6//v6//EN
BEGIN:VEVENT
UID:6004eca6ce24650c88348fb0@squarespace.com
DTSTAMP:20210118T021230Z
DTSTART:20210214T010000Z
DTEND:20210214T060000Z
SUMMARY:Valentines Day
END:VEVENT
END:VCALENDAR
