BEGIN:VCALENDAR
VERSION:2.0
PRODID:-//Squarespace Inc/Squarespace 6//v6//EN
BEGIN:VEVENT
UID:6004eca6ce24650c88348fb2@squarespace.com
DTSTAMP:20210118T033158Z
DTSTART:20210113T050000Z
DTEND:20220115T070000Z
SUMMARY:Happy Hours 
END:VEVENT
END:VCALENDAR
