BEGIN:VCALENDAR
VERSION:2.0
PRODID:-//Squarespace Inc/Squarespace 6//v6//EN
BEGIN:VEVENT
UID:6005012e1c6cfa0180da2d0b@squarespace.com
DTSTAMP:20210118T061614Z
DTSTART:20210131T010000Z
DTEND:20210131T060000Z
SUMMARY:Steak Frites
END:VEVENT
END:VCALENDAR
