BEGIN:VCALENDAR
VERSION:2.0
PRODID:-//Squarespace Inc/Squarespace 6//v6//EN
BEGIN:VEVENT
UID:6005047dc580bf115db101e1@squarespace.com
DTSTAMP:20210118T061507Z
DTSTART:20210124T010000Z
DTEND:20210124T060000Z
SUMMARY:Moules &amp\; Frites
END:VEVENT
END:VCALENDAR
